BEGIN:VCALENDAR
VERSION:2.0
PRODID:-//Kwel Social - ECPv6.5.0.1//NONSGML v1.0//EN
CALSCALE:GREGORIAN
METHOD:PUBLISH
X-WR-CALNAME:Kwel Social
X-ORIGINAL-URL:https://kwelsocial.com
X-WR-CALDESC:Eventos para Kwel Social
REFRESH-INTERVAL;VALUE=DURATION:PT1H
X-Robots-Tag:noindex
X-PUBLISHED-TTL:PT1H
BEGIN:VTIMEZONE
TZID:UTC
BEGIN:STANDARD
TZOFFSETFROM:+0000
TZOFFSETTO:+0000
TZNAME:UTC
DTSTART:20230101T000000
END:STANDARD
END:VTIMEZONE
BEGIN:VEVENT
DTSTART;TZID=UTC:20231122T093000
DTEND;TZID=UTC:20231125T093000
DTSTAMP:20260424T001432
CREATED:20230131T134302Z
LAST-MODIFIED:20230322T000131Z
UID:91180-1700645400-1700904600@kwelsocial.com
SUMMARY:Architectural Photographer Discusses the Sun and Lighting for Architectural Photography
DESCRIPTION:
URL:https://kwelsocial.com/event/architectural-photographer-discusses-the-sun-and-lighting-for-architectural-photography/
CATEGORIES:Design
ATTACH;FMTTYPE=image/jpeg:https://kwelsocial.com/wp-content/uploads/2023/03/1000x700x3.jpg
END:VEVENT
END:VCALENDAR