BEGIN:VCALENDAR
VERSION:2.0
PRODID:-//Kwel Social - ECPv6.5.0.1//NONSGML v1.0//EN
CALSCALE:GREGORIAN
METHOD:PUBLISH
X-WR-CALNAME:Kwel Social
X-ORIGINAL-URL:https://kwelsocial.com
X-WR-CALDESC:Eventos para Kwel Social
REFRESH-INTERVAL;VALUE=DURATION:PT1H
X-Robots-Tag:noindex
X-PUBLISHED-TTL:PT1H
BEGIN:VTIMEZONE
TZID:UTC
BEGIN:STANDARD
TZOFFSETFROM:+0000
TZOFFSETTO:+0000
TZNAME:UTC
DTSTART:20230101T000000
END:STANDARD
END:VTIMEZONE
BEGIN:VEVENT
DTSTART;VALUE=DATE:20230930
DTEND;VALUE=DATE:20231101
DTSTAMP:20260424T014634
CREATED:20230131T083020Z
LAST-MODIFIED:20230322T000131Z
UID:95180-1696032000-1698796799@kwelsocial.com
SUMMARY:Educational Leaders Must Strive To Increase Resources Available For Their Schools
DESCRIPTION:
URL:https://kwelsocial.com/event/educational-leaders-must-strive-to-increase-resources-available-for-their-schools/
CATEGORIES:Speech
ATTACH;FMTTYPE=image/jpeg:https://kwelsocial.com/wp-content/uploads/2023/03/1000x700x1.jpg
END:VEVENT
BEGIN:VEVENT
DTSTART;VALUE=DATE:20231010
DTEND;VALUE=DATE:20231012
DTSTAMP:20260424T014634
CREATED:20230131T133438Z
LAST-MODIFIED:20230322T000131Z
UID:94717-1696896000-1697068799@kwelsocial.com
SUMMARY:Choosing An Air Medical Service With The Right Medical Flight Equipment
DESCRIPTION:
URL:https://kwelsocial.com/event/choosing-an-air-medical-service-with-the-right-medical-flight-equipment/
CATEGORIES:Medical
ATTACH;FMTTYPE=image/jpeg:https://kwelsocial.com/wp-content/uploads/2023/03/1000x700x2.jpg
END:VEVENT
END:VCALENDAR