BEGIN:VCALENDAR
VERSION:2.0
PRODID:-//Kwel Social - ECPv6.5.0.1//NONSGML v1.0//EN
CALSCALE:GREGORIAN
METHOD:PUBLISH
X-ORIGINAL-URL:https://kwelsocial.com
X-WR-CALDESC:Eventos para Kwel Social
REFRESH-INTERVAL;VALUE=DURATION:PT1H
X-Robots-Tag:noindex
X-PUBLISHED-TTL:PT1H
BEGIN:VTIMEZONE
TZID:UTC
BEGIN:STANDARD
TZOFFSETFROM:+0000
TZOFFSETTO:+0000
TZNAME:UTC
DTSTART:20230101T000000
END:STANDARD
END:VTIMEZONE
BEGIN:VEVENT
DTSTART;VALUE=DATE:20231231
DTEND;VALUE=DATE:20240201
DTSTAMP:20260423T225907
CREATED:20230201T062611Z
LAST-MODIFIED:20230322T000131Z
UID:92969-1703980800-1706745599@kwelsocial.com
SUMMARY:Impacts of Information Technology on Society in the New Century
DESCRIPTION:
URL:https://kwelsocial.com/event/impacts-of-information-technology-on-society-in-the-new-century/
CATEGORIES:Technology
ATTACH;FMTTYPE=image/jpeg:https://kwelsocial.com/wp-content/uploads/2023/03/1000x700x4.jpg
END:VEVENT
END:VCALENDAR